BEGIN:VCALENDAR
VERSION:2.0
PRODID:-//CTS Arms - ECPv6.3.2//NONSGML v1.0//EN
CALSCALE:GREGORIAN
METHOD:PUBLISH
X-WR-CALNAME:CTS Arms
X-ORIGINAL-URL:https://www.ctsarms.com
X-WR-CALDESC:Events for CTS Arms
REFRESH-INTERVAL;VALUE=DURATION:PT1H
X-Robots-Tag:noindex
X-PUBLISHED-TTL:PT1H
BEGIN:VTIMEZONE
TZID:America/Phoenix
BEGIN:STANDARD
TZOFFSETFROM:-0700
TZOFFSETTO:-0700
TZNAME:MST
DTSTART:20260101T000000
END:STANDARD
END:VTIMEZONE
BEGIN:VEVENT
DTSTART;TZID=America/Phoenix:20260117T080000
DTEND;TZID=America/Phoenix:20260118T190000
DTSTAMP:20260425T161618
CREATED:20251209T193752Z
LAST-MODIFIED:20251209T193752Z
UID:11777-1768636800-1768762800@www.ctsarms.com
SUMMARY:NRA Basics of Pistol Shooting Instructor Course - 1/17/2026 & 1/18/2026
DESCRIPTION:Become an NRA Pistol instructor!\nPlease register at: https://www.nrainstructors.org/CourseDetails.aspx?Courseid=897487&seats=8&State=y&SearchState=AZ&id=21&bsa=&youth=&women=
URL:https://www.ctsarms.com/event/nra-basics-of-pistol-shooting-instructor-course-1-17-2026-1-18-2026/
LOCATION:Ben Avery Shooting Facility\, 4044 W Black Canyon Blvd\, Phoenix\, AZ\, 85086\, United States
ORGANIZER;CN="CTS Arms":MAILTO:ctsarms@gmail.com
END:VEVENT
BEGIN:VEVENT
DTSTART;TZID=America/Phoenix:20260131T090000
DTEND;TZID=America/Phoenix:20260201T170000
DTSTAMP:20260425T161618
CREATED:20251209T194256Z
LAST-MODIFIED:20251209T194256Z
UID:11779-1769850000-1769965200@www.ctsarms.com
SUMMARY:NRA Personal Protection In The Home Instructor Course - 1/31/2026 7 2/1/2026
DESCRIPTION:Become an NRA Personal Protection In the Home Instructor! \nTo be eligible\, one must currently hold the NRA Basics of Pistol Shooting instructor certification. \nRegister at: https://www.nrainstructors.org/CourseDetails.aspx?Courseid=897980&seats=12&State=y&SearchState=AZ&id=19&bsa=&youth=&women=
URL:https://www.ctsarms.com/event/nra-personal-protection-in-the-home-instructor-course-1-31-2026-7-2-1-2026/
LOCATION:Ben Avery Shooting Facility\, 4044 W Black Canyon Blvd\, Phoenix\, AZ\, 85086\, United States
ORGANIZER;CN="CTS Arms":MAILTO:ctsarms@gmail.com
END:VEVENT
BEGIN:VEVENT
DTSTART;TZID=America/Phoenix:20260222T120000
DTEND;TZID=America/Phoenix:20260222T170000
DTSTAMP:20260425T161618
CREATED:20260107T193125Z
LAST-MODIFIED:20260107T193705Z
UID:11785-1771761600-1771779600@www.ctsarms.com
SUMMARY:$10 CCW Class! 2/22/2026!
DESCRIPTION:$10 CCW Class \nSunday\, Feb 22\, 2026\n12 p.m. to 5 p.m.\nBen Avery Shooting Facility \nFingerprinting available for $20 \nClick the following link to register and pay via the USCCA webpage: https://www.usconcealedcarry.com/firearms-training/instructors/arizona-instructors/cts-arms-1252311/class-phoenix-az-concealed-carry-course-no-live-fire-53119/
URL:https://www.ctsarms.com/event/10-ccw-class-2-22-2026/
LOCATION:Ben Avery Shooting Facility\, 4044 W Black Canyon Blvd\, Phoenix\, AZ\, 85086\, United States
ORGANIZER;CN="CTS Arms":MAILTO:ctsarms@gmail.com
END:VEVENT
BEGIN:VEVENT
DTSTART;TZID=America/Phoenix:20260228T080000
DTEND;TZID=America/Phoenix:20260301T170000
DTSTAMP:20260425T161618
CREATED:20251210T193638Z
LAST-MODIFIED:20251211T193056Z
UID:11781-1772265600-1772384400@www.ctsarms.com
SUMMARY:NRA Basics of Pistol Shooting Instructor Course - 2/28/2026 & 3/1/2026
DESCRIPTION:Become an NRA Pistol instructor! \n$350 fee includes all three required courses. \nRegister at https://www.nrainstructors.org/CourseDetails.aspx?Courseid=906033&seats=12&State=y&SearchState=AZ&id=21&bsa=&youth=&women=
URL:https://www.ctsarms.com/event/nra-basics-of-pistol-shooting-instructor-course-2-28-2026-3-1-2026/
LOCATION:Ben Avery Shooting Facility\, 4044 W Black Canyon Blvd\, Phoenix\, AZ\, 85086\, United States
ORGANIZER;CN="CTS Arms":MAILTO:ctsarms@gmail.com
END:VEVENT
BEGIN:VEVENT
DTSTART;TZID=America/Phoenix:20260411T080000
DTEND;TZID=America/Phoenix:20260412T170000
DTSTAMP:20260425T161618
CREATED:20260324T193254Z
LAST-MODIFIED:20260324T193254Z
UID:11798-1775894400-1776013200@www.ctsarms.com
SUMMARY:NRA Basics of Pistol Shooting Instructor Course - 4/11/2026 & 4/12/2026
DESCRIPTION:NRA Basics of Pistol Shooting Instructor Course \n$350 \nFee includes all required courses \nRegister at https://www.nrainstructors.org/CourseDetails.aspx?Courseid=918399&seats=8&State=y&SearchState=AZ&id=21&bsa=&youth=&women=
URL:https://www.ctsarms.com/event/nra-basics-of-pistol-shooting-instructor-course-4-11-2026-4-12-2026/
LOCATION:Ben Avery Shooting Facility\, 4044 W Black Canyon Blvd\, Phoenix\, AZ\, 85086\, United States
ORGANIZER;CN="CTS Arms":MAILTO:ctsarms@gmail.com
END:VEVENT
BEGIN:VEVENT
DTSTART;VALUE=DATE:20260523
DTEND;VALUE=DATE:20260525
DTSTAMP:20260425T161618
CREATED:20260319T191400Z
LAST-MODIFIED:20260319T191400Z
UID:11791-1779494400-1779667199@www.ctsarms.com
SUMMARY:NRA Personal Protection In The Home Instructor Course - 5/23/2026 & 5/24/2026
DESCRIPTION:$350 course fee includes basic course\, BIT\, and instructor course. \nRegister here\nhttps://www.nrainstructors.org/CourseDetails.aspx?Courseid=915928&seats=10&State=y&SearchState=AZ&id=19&bsa=&youth=&women=
URL:https://www.ctsarms.com/event/nra-personal-protection-in-the-home-instructor-course-5-23-2026-5-24-2026/
LOCATION:Ben Avery Shooting Facility\, 4044 W Black Canyon Blvd\, Phoenix\, AZ\, 85086\, United States
ORGANIZER;CN="CTS Arms":MAILTO:ctsarms@gmail.com
END:VEVENT
BEGIN:VEVENT
DTSTART;TZID=America/Phoenix:20260606T080000
DTEND;TZID=America/Phoenix:20260607T170000
DTSTAMP:20260425T161618
CREATED:20260320T191205Z
LAST-MODIFIED:20260320T192401Z
UID:11794-1780732800-1780851600@www.ctsarms.com
SUMMARY:NRA Basics of Pistol Shooting Instructor Course - 6/6/2026 & 6/7/2026
DESCRIPTION:$350 fee includes all three required courses.\nRegister at: https://www.nrainstructors.org/CourseDetails.aspx?Courseid=916369&seats=10&State=y&SearchState=AZ&id=21&bsa=&youth=&women=
URL:https://www.ctsarms.com/event/uscca-concealed-carry-home-defense-instructor-certification-course-5-9-2026-5-10-2026/
LOCATION:Ben Avery Shooting Facility\, 4044 W Black Canyon Blvd\, Phoenix\, AZ\, 85086\, United States
ORGANIZER;CN="CTS Arms":MAILTO:ctsarms@gmail.com
END:VEVENT
END:VCALENDAR