BEGIN:VCALENDAR
VERSION:2.0
PRODID:-//CTS Arms - ECPv6.3.2//NONSGML v1.0//EN
CALSCALE:GREGORIAN
METHOD:PUBLISH
X-WR-CALNAME:CTS Arms
X-ORIGINAL-URL:https://www.ctsarms.com
X-WR-CALDESC:Events for CTS Arms
REFRESH-INTERVAL;VALUE=DURATION:PT1H
X-Robots-Tag:noindex
X-PUBLISHED-TTL:PT1H
BEGIN:VTIMEZONE
TZID:America/Phoenix
BEGIN:STANDARD
TZOFFSETFROM:-0700
TZOFFSETTO:-0700
TZNAME:MST
DTSTART:20230101T000000
END:STANDARD
END:VTIMEZONE
BEGIN:VEVENT
DTSTART;TZID=America/Phoenix:20260117T080000
DTEND;TZID=America/Phoenix:20260118T190000
DTSTAMP:20260425T213823
CREATED:20251209T193752Z
LAST-MODIFIED:20251209T193752Z
UID:11777-1768636800-1768762800@www.ctsarms.com
SUMMARY:NRA Basics of Pistol Shooting Instructor Course - 1/17/2026 & 1/18/2026
DESCRIPTION:Become an NRA Pistol instructor!\nPlease register at: https://www.nrainstructors.org/CourseDetails.aspx?Courseid=897487&seats=8&State=y&SearchState=AZ&id=21&bsa=&youth=&women=
URL:https://www.ctsarms.com/event/nra-basics-of-pistol-shooting-instructor-course-1-17-2026-1-18-2026/
LOCATION:Ben Avery Shooting Facility\, 4044 W Black Canyon Blvd\, Phoenix\, AZ\, 85086\, United States
ORGANIZER;CN="CTS Arms":MAILTO:ctsarms@gmail.com
END:VEVENT
BEGIN:VEVENT
DTSTART;TZID=America/Phoenix:20251207T080000
DTEND;TZID=America/Phoenix:20251207T170000
DTSTAMP:20260425T213823
CREATED:20251006T015215Z
LAST-MODIFIED:20251006T015353Z
UID:11766-1765094400-1765126800@www.ctsarms.com
SUMMARY:NRA Basics of Pistol Shooting Instructor Course - 12/6/2025 & 12/7/2025
DESCRIPTION:Become an NRA certified pistol instructor! \n$300 fee includes the three required courses. \nRegister at https://www.nrainstructors.org/CourseDetails.aspx?Courseid=897095&seats=8&State=y&SearchState=AZ&id=21&bsa=&youth=&women=
URL:https://www.ctsarms.com/event/nra-basics-of-pistol-shooting-instructor-course-11-8-2025-11-9-2025/
LOCATION:Ben Avery Shooting Facility\, 4044 W Black Canyon Blvd\, Phoenix\, AZ\, 85086\, United States
ORGANIZER;CN="CTS Arms":MAILTO:ctsarms@gmail.com
END:VEVENT
BEGIN:VEVENT
DTSTART;TZID=America/Phoenix:20251123T130000
DTEND;TZID=America/Phoenix:20251123T170000
DTSTAMP:20260425T213823
CREATED:20250930T214607Z
LAST-MODIFIED:20250930T214607Z
UID:11759-1763902800-1763917200@www.ctsarms.com
SUMMARY:$1 CCW Course!
DESCRIPTION:Yes\, $1!! \n1p.m. to 5 p.m. \nfingerprinting available for $20
URL:https://www.ctsarms.com/event/1-ccw-course/
LOCATION:Ben Avery Shooting Facility\, 4044 W Black Canyon Blvd\, Phoenix\, AZ\, 85086\, United States
ORGANIZER;CN="CTS Arms":MAILTO:ctsarms@gmail.com
END:VEVENT
BEGIN:VEVENT
DTSTART;VALUE=DATE:20250927
DTEND;VALUE=DATE:20250929
DTSTAMP:20260425T213823
CREATED:20250826T195342Z
LAST-MODIFIED:20250826T195342Z
UID:11751-1758931200-1759103999@www.ctsarms.com
SUMMARY:NRA Basics of Pistol Shooting Instructor Course - 9/27/2025 & 9/28/2025
DESCRIPTION:NRA Basics of Pistol Shooting Instructor course.  \n$300 fee includes: Basic course\, Basic Instructor Training Course(BIT) and Instructor Course.  \nCourses are held over Saturday and Sunday
URL:https://www.ctsarms.com/event/nra-basics-of-pistol-shooting-instructor-course-9-27-2025-9-28-2025/
LOCATION:Ben Avery Shooting Facility\, 4044 W Black Canyon Blvd\, Phoenix\, AZ\, 85086\, United States
ORGANIZER;CN="CTS Arms":MAILTO:ctsarms@gmail.com
END:VEVENT
BEGIN:VEVENT
DTSTART;VALUE=DATE:20250719
DTEND;VALUE=DATE:20250721
DTSTAMP:20260425T213823
CREATED:20250611T165650Z
LAST-MODIFIED:20250611T165650Z
UID:11748-1752883200-1753055999@www.ctsarms.com
SUMMARY:NRA Chief Range Safety Officer Course 7/19/2025 & 7/20/2025
DESCRIPTION:
URL:https://www.ctsarms.com/event/nra-chief-range-safety-officer-course-7-19-2025-7-20-2025/
LOCATION:Ben Avery Shooting Facility\, 4044 W Black Canyon Blvd\, Phoenix\, AZ\, 85086\, United States
ORGANIZER;CN="CTS Arms":MAILTO:ctsarms@gmail.com
END:VEVENT
BEGIN:VEVENT
DTSTART;TZID=America/Phoenix:20250525T080000
DTEND;TZID=America/Phoenix:20250526T170000
DTSTAMP:20260425T213823
CREATED:20250127T162923Z
LAST-MODIFIED:20250127T162923Z
UID:11733-1748160000-1748278800@www.ctsarms.com
SUMMARY:USCCA Concealed Carry and Home Defense Instructor Certification Course - 5/24/2025 & 5/25/2025
DESCRIPTION:To register\, Cick on the following Link: https://www.usconcealedcarry.com/firearms-training/instructors/arizona-instructors/cts-arms-1252311/class-phoenix-az-arizona-concealed-carry-home-defense-fundamentals-certified-instructor-course-86b9f/
URL:https://www.ctsarms.com/event/uscca-concealed-carry-and-home-defense-instructor-certification-course-5-24-2025-5-25-2025/
LOCATION:Ben Avery Shooting Facility\, 4044 W Black Canyon Blvd\, Phoenix\, AZ\, 85086\, United States
ORGANIZER;CN="CTS Arms":MAILTO:ctsarms@gmail.com
END:VEVENT
BEGIN:VEVENT
DTSTART;TZID=America/Phoenix:20250510T080000
DTEND;TZID=America/Phoenix:20250511T190000
DTSTAMP:20260425T213823
CREATED:20250313T193609Z
LAST-MODIFIED:20250313T193609Z
UID:11743-1746864000-1746990000@www.ctsarms.com
SUMMARY:NRA Chief Range Safety Officer Instructor Course - 5/10/2025 & 5/11/2025
DESCRIPTION:
URL:https://www.ctsarms.com/event/nra-chief-range-safety-officer-instructor-course-5-10-2025-5-11-2025/
LOCATION:Ben Avery Shooting Facility\, 4044 W Black Canyon Blvd\, Phoenix\, AZ\, 85086\, United States
ORGANIZER;CN="CTS Arms":MAILTO:ctsarms@gmail.com
END:VEVENT
BEGIN:VEVENT
DTSTART;TZID=America/Phoenix:20250510T080000
DTEND;TZID=America/Phoenix:20250510T160000
DTSTAMP:20260425T213823
CREATED:20250313T193215Z
LAST-MODIFIED:20250313T193215Z
UID:11740-1746864000-1746892800@www.ctsarms.com
SUMMARY:NRA Basic Range Safety Officer Course - 5/10/2025
DESCRIPTION:
URL:https://www.ctsarms.com/event/nra-basic-range-safety-officer-course-5-10-2025/
LOCATION:Ben Avery Shooting Facility\, 4044 W Black Canyon Blvd\, Phoenix\, AZ\, 85086\, United States
END:VEVENT
BEGIN:VEVENT
DTSTART;TZID=America/Phoenix:20250426T080000
DTEND;TZID=America/Phoenix:20250426T190000
DTSTAMP:20260425T213823
CREATED:20250313T192433Z
LAST-MODIFIED:20250313T192433Z
UID:11737-1745654400-1745694000@www.ctsarms.com
SUMMARY:NRA Basics of Pistol Shooting Instructor Course - 4/26/2025 & 4/27/2025
DESCRIPTION:
URL:https://www.ctsarms.com/event/nra-basics-of-pistol-shooting-instructor-course-4-26-2025-4-27-2025/
LOCATION:Ben Avery Shooting Facility\, 4044 W Black Canyon Blvd\, Phoenix\, AZ\, 85086\, United States
ORGANIZER;CN="CTS Arms":MAILTO:ctsarms@gmail.com
END:VEVENT
BEGIN:VEVENT
DTSTART;TZID=America/Phoenix:20250301T080000
DTEND;TZID=America/Phoenix:20250302T170000
DTSTAMP:20260425T213823
CREATED:20250114T010047Z
LAST-MODIFIED:20250114T010047Z
UID:11725-1740816000-1740934800@www.ctsarms.com
SUMMARY:NRA Basics of Pistol Shooting Instructor Course - 3/1/2025 & 3/2/2025
DESCRIPTION:
URL:https://www.ctsarms.com/event/nra-basics-of-pistol-shooting-instructor-course-3-1-2025-3-2-2025/
LOCATION:Ben Avery Shooting Facility\, 4044 W Black Canyon Blvd\, Phoenix\, AZ\, 85086\, United States
ORGANIZER;CN="CTS Arms":MAILTO:ctsarms@gmail.com
END:VEVENT
BEGIN:VEVENT
DTSTART;TZID=America/Phoenix:20250215T120000
DTEND;TZID=America/Phoenix:20250215T170000
DTSTAMP:20260425T213823
CREATED:20250117T163439Z
LAST-MODIFIED:20250205T161006Z
UID:11728-1739620800-1739638800@www.ctsarms.com
SUMMARY:USCCA Concealed Carry Fundamentals Class - 2/15/2025 - Valentine's Day Special! - $20!!
DESCRIPTION:
URL:https://www.ctsarms.com/event/uscca-concealed-carry-fundamentals-class-2-15-2025-valentines-day-special-20/
LOCATION:Ben Avery Shooting Facility\, 4044 W Black Canyon Blvd\, Phoenix\, AZ\, 85086\, United States
ORGANIZER;CN="CTS Arms":MAILTO:ctsarms@gmail.com
END:VEVENT
BEGIN:VEVENT
DTSTART;VALUE=DATE:20250202
DTEND;VALUE=DATE:20250203
DTSTAMP:20260425T213823
CREATED:20241104T155226Z
LAST-MODIFIED:20250114T005644Z
UID:11713-1738454400-1738540799@www.ctsarms.com
SUMMARY:NRA Personal Protection In The Home Instructor Course  - 2/1/2025& 2/2/2025
DESCRIPTION:
URL:https://www.ctsarms.com/event/uscca-concealed-carry-and-home-defense-fundamentals-instructor-certification-2-1-2025-2-2-2025/
LOCATION:Ben Avery Shooting Facility\, 4044 W Black Canyon Blvd\, Phoenix\, AZ\, 85086\, United States
ORGANIZER;CN="CTS Arms":MAILTO:ctsarms@gmail.com
END:VEVENT
BEGIN:VEVENT
DTSTART;VALUE=DATE:20250118
DTEND;VALUE=DATE:20250119
DTSTAMP:20260425T213823
CREATED:20241104T155021Z
LAST-MODIFIED:20241104T155021Z
UID:11710-1737158400-1737244799@www.ctsarms.com
SUMMARY:NRA Basics of Pistol Shooting Instructor Course  1/18/2025 & 1/19/2025
DESCRIPTION:
URL:https://www.ctsarms.com/event/nra-basics-of-pistol-shooting-instructor-course-1-18-2025-1-19-2025/
LOCATION:Ben Avery Shooting Facility\, 4044 W Black Canyon Blvd\, Phoenix\, AZ\, 85086\, United States
ORGANIZER;CN="CTS Arms":MAILTO:ctsarms@gmail.com
END:VEVENT
BEGIN:VEVENT
DTSTART;TZID=America/Phoenix:20240511T130000
DTEND;TZID=America/Phoenix:20240511T180000
DTSTAMP:20260425T213823
CREATED:20240415T025804Z
LAST-MODIFIED:20240415T025804Z
UID:11643-1715432400-1715450400@www.ctsarms.com
SUMMARY:USCCA Concealed Carry Fundamentals Course - Mother's Day Special! 5/11/2024
DESCRIPTION:$10 CCW Class for all Moms! \nDads can come too! Same Price!
URL:https://www.ctsarms.com/event/uscca-concealed-carry-fundamentals-course-mothers-day-special-5-11-2024/
LOCATION:Ben Avery Shooting Facility\, 4044 W Black Canyon Blvd\, Phoenix\, AZ\, 85086\, United States
ORGANIZER;CN="CTS Arms":MAILTO:ctsarms@gmail.com
END:VEVENT
BEGIN:VEVENT
DTSTART;TZID=America/Phoenix:20240427T080000
DTEND;TZID=America/Phoenix:20240428T180000
DTSTAMP:20260425T213823
CREATED:20231231T203300Z
LAST-MODIFIED:20240412T182311Z
UID:11572-1714204800-1714327200@www.ctsarms.com
SUMMARY:NRA Basics of Pistol Shooting Instructor Course - 4/27 & 4/28/2024
DESCRIPTION:
URL:https://www.ctsarms.com/event/nra-basics-of-pistol-shooting-instructor-course-4-27-4-28-2024/
LOCATION:Ben Avery Shooting Facility\, 4044 W Black Canyon Blvd\, Phoenix\, AZ\, 85086\, United States
ORGANIZER;CN="CTS Arms":MAILTO:ctsarms@gmail.com
END:VEVENT
BEGIN:VEVENT
DTSTART;VALUE=DATE:20240427
DTEND;VALUE=DATE:20240428
DTSTAMP:20260425T213823
CREATED:20231231T194350Z
LAST-MODIFIED:20231231T230321Z
UID:11550-1714176000-1714262399@www.ctsarms.com
SUMMARY:NRA Basics of Pistol Shooting Course - 4/27/2024
DESCRIPTION:8 hour basic course \nTopics Taught:\nHandgun Safety\nTypes of handguns\nAmmunition\nShooting Fundamentals\nScoring Targets\nCleaning a handgun\nLive Fire \nRequired for class: \nHandgun .22lr or larger caliber\n200 rounds of ammunition\nEye and ear protection
URL:https://www.ctsarms.com/event/nra-basics-of-pistol-shooting-course-4-27-2024-2/
LOCATION:Ben Avery Shooting Facility\, 4044 W Black Canyon Blvd\, Phoenix\, AZ\, 85086\, United States
ORGANIZER;CN="CTS Arms":MAILTO:ctsarms@gmail.com
END:VEVENT
BEGIN:VEVENT
DTSTART;TZID=America/Phoenix:20240414T120000
DTEND;TZID=America/Phoenix:20240414T170000
DTSTAMP:20260425T213823
CREATED:20231231T230152Z
LAST-MODIFIED:20240326T162408Z
UID:11578-1713096000-1713114000@www.ctsarms.com
SUMMARY:USCCA Concealed Carry Fundamentals Course - 4/14/2024
DESCRIPTION:
URL:https://www.ctsarms.com/event/uscca-concealed-carry-fundamentals-course-4-14-2024/
LOCATION:Ben Avery Shooting Facility\, 4044 W Black Canyon Blvd\, Phoenix\, AZ\, 85086\, United States
ORGANIZER;CN="CTS Arms":MAILTO:ctsarms@gmail.com
END:VEVENT
BEGIN:VEVENT
DTSTART;TZID=America/Phoenix:20240302T120000
DTEND;TZID=America/Phoenix:20240302T170000
DTSTAMP:20260425T213823
CREATED:20231212T153836Z
LAST-MODIFIED:20231212T153836Z
UID:11541-1709380800-1709398800@www.ctsarms.com
SUMMARY:USCCA Concealed Carry and Home Defense Fundamentals 3/2/2024
DESCRIPTION:This course qualifies you to receive an Arizona CCW permit
URL:https://www.ctsarms.com/event/uscca-concealed-carry-and-home-defense-fundamentals-3-2-2024/
LOCATION:Ben Avery Shooting Facility\, 4044 W Black Canyon Blvd\, Phoenix\, AZ\, 85086\, United States
ORGANIZER;CN="CTS Arms":MAILTO:ctsarms@gmail.com
END:VEVENT
BEGIN:VEVENT
DTSTART;TZID=America/Phoenix:20240217T080000
DTEND;TZID=America/Phoenix:20240217T170000
DTSTAMP:20260425T213823
CREATED:20231108T233455Z
LAST-MODIFIED:20231231T174440Z
UID:11513-1708156800-1708189200@www.ctsarms.com
SUMMARY:NRA Range Safety Officer Course - 2/17/2024
DESCRIPTION:
URL:https://www.ctsarms.com/event/nra-range-safety-officer-course-2-17-2024/
LOCATION:Ben Avery Shooting Facility\, 4044 W Black Canyon Blvd\, Phoenix\, AZ\, 85086\, United States
ORGANIZER;CN="CTS Arms":MAILTO:ctsarms@gmail.com
END:VEVENT
BEGIN:VEVENT
DTSTART;TZID=America/Phoenix:20231111T080000
DTEND;TZID=America/Phoenix:20231111T170000
DTSTAMP:20260425T213823
CREATED:20230820T190536Z
LAST-MODIFIED:20230822T212827Z
UID:11440-1699689600-1699722000@www.ctsarms.com
SUMMARY:NRA Personal Protection Outside the Home Instructor Course
DESCRIPTION:
URL:https://www.ctsarms.com/event/nra-personal-protection-inside-the-home-instructor-course/
LOCATION:AZ
END:VEVENT
BEGIN:VEVENT
DTSTART;TZID=America/Phoenix:20231028T080000
DTEND;TZID=America/Phoenix:20231029T190000
DTSTAMP:20260425T213823
CREATED:20230918T162216Z
LAST-MODIFIED:20230918T162216Z
UID:11485-1698480000-1698606000@www.ctsarms.com
SUMMARY:NRA Personal Protection In the Home Instructor Course - 10/28/2023 & 10/29/2023
DESCRIPTION:
URL:https://www.ctsarms.com/event/nra-personal-protection-in-the-home-instructor-course-10-28-2023-10-29-2023/
LOCATION:Ben Avery Shooting Facility\, 4044 W Black Canyon Blvd\, Phoenix\, AZ\, 85086\, United States
ORGANIZER;CN="CTS Arms":MAILTO:ctsarms@gmail.com
END:VEVENT
BEGIN:VEVENT
DTSTART;TZID=America/Phoenix:20230930T090000
DTEND;TZID=America/Phoenix:20230930T140000
DTSTAMP:20260425T213823
CREATED:20230822T161021Z
LAST-MODIFIED:20230822T192137Z
UID:11452-1696064400-1696082400@www.ctsarms.com
SUMMARY:USCCA Concealed Carry Fundamentals Course - 9/30/2023
DESCRIPTION:
URL:https://www.ctsarms.com/event/uscca-concealed-carry-fundamentals-course-9-30-20263/
LOCATION:Ben Avery Shooting Facility\, 4044 W Black Canyon Blvd\, Phoenix\, AZ\, 85086\, United States
ORGANIZER;CN="CTS Arms":MAILTO:ctsarms@gmail.com
END:VEVENT
BEGIN:VEVENT
DTSTART;TZID=America/Phoenix:20230916T080000
DTEND;TZID=America/Phoenix:20230916T170000
DTSTAMP:20260425T213823
CREATED:20230818T164237Z
LAST-MODIFIED:20230820T184734Z
UID:11400-1694851200-1694883600@www.ctsarms.com
SUMMARY:NRA Basics of Pistol Shooting Course
DESCRIPTION:
URL:https://www.ctsarms.com/event/nra-basics-of-pistol-shooting-course/
LOCATION:AZ
END:VEVENT
END:VCALENDAR