BEGIN:VCALENDAR
VERSION:2.0
PRODID:-//CTS Arms - ECPv6.3.2//NONSGML v1.0//EN
CALSCALE:GREGORIAN
METHOD:PUBLISH
X-ORIGINAL-URL:https://www.ctsarms.com
X-WR-CALDESC:Events for CTS Arms
REFRESH-INTERVAL;VALUE=DURATION:PT1H
X-Robots-Tag:noindex
X-PUBLISHED-TTL:PT1H
BEGIN:VTIMEZONE
TZID:America/Phoenix
BEGIN:STANDARD
TZOFFSETFROM:-0700
TZOFFSETTO:-0700
TZNAME:MST
DTSTART:20260101T000000
END:STANDARD
END:VTIMEZONE
BEGIN:VEVENT
DTSTART;TZID=America/Phoenix:20260411T080000
DTEND;TZID=America/Phoenix:20260412T170000
DTSTAMP:20260425T111119
CREATED:20260324T193254Z
LAST-MODIFIED:20260324T193254Z
UID:11798-1775894400-1776013200@www.ctsarms.com
SUMMARY:NRA Basics of Pistol Shooting Instructor Course - 4/11/2026 & 4/12/2026
DESCRIPTION:NRA Basics of Pistol Shooting Instructor Course \n$350 \nFee includes all required courses \nRegister at https://www.nrainstructors.org/CourseDetails.aspx?Courseid=918399&seats=8&State=y&SearchState=AZ&id=21&bsa=&youth=&women=
URL:https://www.ctsarms.com/event/nra-basics-of-pistol-shooting-instructor-course-4-11-2026-4-12-2026/
LOCATION:Ben Avery Shooting Facility\, 4044 W Black Canyon Blvd\, Phoenix\, AZ\, 85086\, United States
ORGANIZER;CN="CTS Arms":MAILTO:ctsarms@gmail.com
END:VEVENT
END:VCALENDAR